BEGIN:VCALENDAR
VERSION:2.0
PRODID:-//Bishop Thagana - ECPv6.7.0//NONSGML v1.0//EN
CALSCALE:GREGORIAN
METHOD:PUBLISH
X-WR-CALNAME:Bishop Thagana
X-ORIGINAL-URL:https://davidthagana.com
X-WR-CALDESC:Events for Bishop Thagana
REFRESH-INTERVAL;VALUE=DURATION:PT1H
X-Robots-Tag:noindex
X-PUBLISHED-TTL:PT1H
BEGIN:VTIMEZONE
TZID:UTC
BEGIN:STANDARD
TZOFFSETFROM:+0000
TZOFFSETTO:+0000
TZNAME:UTC
DTSTART:20220101T000000
END:STANDARD
TZID:America/Halifax
BEGIN:DAYLIGHT
TZOFFSETFROM:-0400
TZOFFSETTO:-0300
TZNAME:ADT
DTSTART:20230312T060000
END:DAYLIGHT
BEGIN:STANDARD
TZOFFSETFROM:-0300
TZOFFSETTO:-0400
TZNAME:AST
DTSTART:20231105T050000
END:STANDARD
TZID:Atlantic/South_Georgia
BEGIN:STANDARD
TZOFFSETFROM:-0200
TZOFFSETTO:-0200
TZNAME:-02
DTSTART:20220101T000000
END:STANDARD
END:VTIMEZONE
BEGIN:VEVENT
DTSTART;VALUE=DATE:20230717
DTEND;VALUE=DATE:20230722
DTSTAMP:20260422T144702
CREATED:20230718T131121Z
LAST-MODIFIED:20230718T131121Z
UID:719-1689552000-1689983999@davidthagana.com
SUMMARY:History Makers Journey For Business People
DESCRIPTION:History Makers for The Business people aims at empowering Business people to learn to run and manage their businesses as unto God and use them as tools of creatively responding to the Great Commission. \nThe Training is running from 17th – 21st July 2023 at BTL Ruiru Kiambu County
URL:https://davidthagana.com/event/history-makers-journey-for-business-people/
END:VEVENT
BEGIN:VEVENT
DTSTART;TZID=UTC:20230618T080000
DTEND;TZID=UTC:20230618T170000
DTSTAMP:20260422T144702
CREATED:20230520T055749Z
LAST-MODIFIED:20230520T055749Z
UID:699-1687075200-1687107600@davidthagana.com
SUMMARY:DIAR Awards Celebration In  Nairobi
DESCRIPTION:DIAR Award for Peace and Cohesion Champion\, is recognition award that was conferred upon Bishop David Thagana on 3rd of March 2023. The Award honours the widespread efforts made by Bishop David Thagana and Glory Outreach Assembly in promoting Peace and cohesion in the country through different strategies. These include but not limited to Civic Education\, Pre and Post-election peace campaigns\, Peace among tribes and Peace initiatives in neighboring countries in East and Central Africa.
URL:https://davidthagana.com/event/diar-awards-celebration-in-nairobi/
ATTACH;FMTTYPE=image/jpeg:https://davidthagana.com/wp-content/uploads/2023/05/INVITATION-FOR-nairobi-for-web-scaled.jpg
END:VEVENT
BEGIN:VEVENT
DTSTART;TZID=UTC:20230604T120000
DTEND;TZID=UTC:20230604T140000
DTSTAMP:20260422T144702
CREATED:20230520T054824Z
LAST-MODIFIED:20230520T054824Z
UID:696-1685880000-1685887200@davidthagana.com
SUMMARY:DIAR Awards celebration at Ndunyu Njeru
DESCRIPTION:DIAR Award for Peace and Cohesion Champion\, is recognition award that was conferred upon Bishop David Thagana on 3rd of March 2023. The Award honours the widespread efforts made by Bishop David Thagana and Glory Outreach Assembly in promoting Peace and cohesion in the country through different strategies. These include but not limited to Civic Education\, Pre and Post-election peace campaigns\, Peace among tribes and Peace initiatives in neighboring countries in East and Central Africa.
URL:https://davidthagana.com/event/diar-awards-celebration-at-ndunyu-njeru/
ATTACH;FMTTYPE=image/jpeg:https://davidthagana.com/wp-content/uploads/2023/05/INVITATION-FOR-NDUNYU-NJERU-for-web-scaled.jpg
END:VEVENT
BEGIN:VEVENT
DTSTART;TZID=America/Halifax:20230521T090000
DTEND;TZID=America/Halifax:20230521T130000
DTSTAMP:20260422T144702
CREATED:20230520T061123Z
LAST-MODIFIED:20230520T061123Z
UID:702-1684659600-1684674000@davidthagana.com
SUMMARY:Bishop David Thagana Preaching at Cumberland Community church
DESCRIPTION:This being the last Sunday for Bishop David during his May Trip in the United States\, Bishop David will be preaching at Cumberland Community church in all the three services in Smyrna GA. \nAddress: 3059 S Cobb Dr SE\, Smyrna\, GA 30080
URL:https://davidthagana.com/event/bishop-david-thagana-preaching-at-cumberland-community-church/
LOCATION:United States Of America
ATTACH;FMTTYPE=image/jpeg:https://davidthagana.com/wp-content/uploads/2023/05/Bishop-at-CCC-for-web.jpg
ORGANIZER;CN="GOA USA":MAILTO:info@goaweb.org
END:VEVENT
BEGIN:VEVENT
DTSTART;TZID=America/Halifax:20230520T170000
DTEND;TZID=America/Halifax:20230520T190000
DTSTAMP:20260422T144702
CREATED:20230518T153716Z
LAST-MODIFIED:20230518T153802Z
UID:692-1684602000-1684609200@davidthagana.com
SUMMARY:Bishop David at Refuge Community Church
DESCRIPTION:Join Bishop David Thagana on Saturday 20th May 2023 at Refuge Community Church. There are plenty of ministry partnership opportunities from Kenya that Bishop David has brought to the United States Come and be blessed together. \nRefuge Community Church\, 4699 Ewing Rd\, Austell\, GA 30106\, USA \nContact Bishop David on 470 905 9206. 
URL:https://davidthagana.com/event/bishop-david-at-refuge-community-church/
LOCATION:United States Of America
ATTACH;FMTTYPE=image/jpeg:https://davidthagana.com/wp-content/uploads/2023/05/refuge-e1684424223601.jpg
ORGANIZER;CN="GOA USA":MAILTO:info@goaweb.org
END:VEVENT
BEGIN:VEVENT
DTSTART;TZID=America/Halifax:20230519T180000
DTEND;TZID=America/Halifax:20230519T200000
DTSTAMP:20260422T144702
CREATED:20230518T151145Z
LAST-MODIFIED:20230518T151246Z
UID:688-1684519200-1684526400@davidthagana.com
SUMMARY:Experience Kenya at Cumberland Community Church
DESCRIPTION:Bishop David will be at Cumberland Community church for A Kenya Event. If you are not able to Come to Kenya\, Please come to Cumberland community Church and experience  Kenya. \nFriday May 19th from 6.00pm – 8.00pm .Kenya event at Cumberland Community Church. 3059 South Cobb Drive SE Smyrna\, GA 30080. \nREGISTER AND GET MORE INFORMATION HERE \nContact Bishop David on 470 905 9206. 
URL:https://davidthagana.com/event/kenya-event-at-cumberland-community-church/
LOCATION:United States Of America
ATTACH;FMTTYPE=image/png:https://davidthagana.com/wp-content/uploads/2023/05/Cumberland-Community-Church.png
ORGANIZER;CN="GOA USA":MAILTO:info@goaweb.org
END:VEVENT
BEGIN:VEVENT
DTSTART;VALUE=DATE:20230518
DTEND;VALUE=DATE:20230519
DTSTAMP:20260422T144702
CREATED:20230515T071501Z
LAST-MODIFIED:20230515T071501Z
UID:685-1684368000-1684454399@davidthagana.com
SUMMARY:Bishop David Ministry In Greenville day 3
DESCRIPTION:Thursday 18th  May will mark Bishop David’s 2nd day of ministry in Greenville. Bishop David plans to visit his friends and ministry partners for encouragement and strategic mission engagements. There are still open opportunities for strategic ministry meetings with Bishop David in Greenville on 18th May 2023. \nContact Bishop Thagana for more ministry opportunities: +1(470) 905-9706
URL:https://davidthagana.com/event/bishop-david-ministry-in-greenville-day-3/
LOCATION:United States Of America
ATTACH;FMTTYPE=image/jpeg:https://davidthagana.com/wp-content/uploads/2023/05/Greenville.jpg
ORGANIZER;CN="GOA USA":MAILTO:info@goaweb.org
END:VEVENT
BEGIN:VEVENT
DTSTART;VALUE=DATE:20230517
DTEND;VALUE=DATE:20230518
DTSTAMP:20260422T144702
CREATED:20230515T071149Z
LAST-MODIFIED:20230515T071149Z
UID:683-1684281600-1684367999@davidthagana.com
SUMMARY:Bishop David Thagana Ministry in Greenville
DESCRIPTION:Wednesday 17th May will mark Bishop David’s 2nd day of ministry in Greenville. There are still open opportunities for strategic ministry meetings with Bishop David in Greenville on 17th May 2023. \nContact Bishop Thagana for more ministry opportunities: +1(470) 905-9706
URL:https://davidthagana.com/event/bishop-david-thagana-ministry-in-greenville/
LOCATION:United States Of America
ATTACH;FMTTYPE=image/jpeg:https://davidthagana.com/wp-content/uploads/2023/05/Greenville.jpg
ORGANIZER;CN="GOA USA":MAILTO:info@goaweb.org
END:VEVENT
BEGIN:VEVENT
DTSTART;VALUE=DATE:20230516
DTEND;VALUE=DATE:20230517
DTSTAMP:20260422T144702
CREATED:20230515T065325Z
LAST-MODIFIED:20230515T065422Z
UID:681-1684195200-1684281599@davidthagana.com
SUMMARY:Bishop David Arrives in Greenville South Carolina
DESCRIPTION:On Tuesday 16th May Bishop David will travel to Greenville South Carolina with a possible stopover at Charlotte. \nWhile in South Carolina Bishop David will meet ministry partners and friends during the day. These will include Lunch meetings\, Meetings over a cup of coffee and many more. \nIn the evening Bishop David together his Hosts Mark and carol Clayton will engage in street ministry. \nContact Bishop Thagana: +1(470) 905-9706
URL:https://davidthagana.com/event/bishop-david-arrives-in-greenville-south-carolina/
LOCATION:United States Of America
ATTACH;FMTTYPE=image/jpeg:https://davidthagana.com/wp-content/uploads/2023/05/Greenville.jpg
ORGANIZER;CN="GOA USA":MAILTO:info@goaweb.org
END:VEVENT
BEGIN:VEVENT
DTSTART;VALUE=DATE:20230515
DTEND;VALUE=DATE:20230516
DTSTAMP:20260422T144702
CREATED:20230515T064639Z
LAST-MODIFIED:20230515T064639Z
UID:677-1684108800-1684195199@davidthagana.com
SUMMARY:Bishop David Thagana at Liberty University
DESCRIPTION:On Monday 15th May Bishop will hold strategic ministry partnership meetings at Liberty University. You can get in contact bishop Bishop David on other ministry opportunities. \nContact Bishop Thagana: +1(470) 905-9706
URL:https://davidthagana.com/event/bishop-david-thagana-at-liberty-university/
LOCATION:United States Of America
ATTACH;FMTTYPE=image/jpeg:https://davidthagana.com/wp-content/uploads/2023/05/Liberty-University.jpg
ORGANIZER;CN="GOA USA":MAILTO:info@goaweb.org
END:VEVENT
BEGIN:VEVENT
DTSTART;TZID=America/Halifax:20230514T100000
DTEND;TZID=America/Halifax:20230514T130000
DTSTAMP:20260422T144702
CREATED:20230509T113741Z
LAST-MODIFIED:20230509T114559Z
UID:668-1684058400-1684069200@davidthagana.com
SUMMARY:Bishop David Preaches at Heritage Baptist Church Lynchburg\, VA
DESCRIPTION:On Sunday 14th May 2023\, Bishop David will preach at Heritage Baptist church Lynchburg\, VA. There will be plenty of Ministry opportunities that Bishop will bring along for you. \nLook at Bishops David’s Full Itinerary  and see the open opportunities to meet and talk Kingdom partnership and praise. \nContact through +1 (470)905-9206
URL:https://davidthagana.com/event/bishop-david-preaches-at-heritage-baptist-church-lynchburg-va/
LOCATION:United States Of America
ATTACH;FMTTYPE=image/jpeg:https://davidthagana.com/wp-content/uploads/2023/05/Bishop-at-Heritage-Baptist.jpg
ORGANIZER;CN="GOA USA":MAILTO:info@goaweb.org
END:VEVENT
BEGIN:VEVENT
DTSTART;TZID=America/Halifax:20230513T100000
DTEND;TZID=America/Halifax:20230513T130000
DTSTAMP:20260422T144702
CREATED:20230509T110327Z
LAST-MODIFIED:20230509T110327Z
UID:665-1683972000-1683982800@davidthagana.com
SUMMARY:Bishop David travels to Lynchburg VA
DESCRIPTION:Bishop David travels to Lynchburg VA for more Ministry opportunities on Saturday 13th May 2023 through Charlotte. \nLook at Bishops David’s Full Itinerary  and see the open opportunities to meet and talk Kingdom partnership and praise. \nContact through +1 (470)905-9206
URL:https://davidthagana.com/event/bishop-david-travels-to-lynchburg-va/
LOCATION:United States Of America
ATTACH;FMTTYPE=image/jpeg:https://davidthagana.com/wp-content/uploads/2023/05/Lynchburg-VA.jpg
ORGANIZER;CN="GOA USA":MAILTO:info@goaweb.org
END:VEVENT
BEGIN:VEVENT
DTSTART;VALUE=DATE:20230512
DTEND;VALUE=DATE:20230513
DTSTAMP:20260422T144702
CREATED:20230509T105409Z
LAST-MODIFIED:20230509T105410Z
UID:662-1683849600-1683935999@davidthagana.com
SUMMARY:Friday 12th is Open for Ministry in Atlanta with Bishop David
DESCRIPTION:On Friday 12th May Bishop David Will be In  Atlanta Georgia This day is open for you to see Bishop David if you are closer in Atlanta. Please get in touch with Bishop David through the contact below and Meet. \nLook at Bishops David’s Full Itinerary  and see the open opportunities to meet and talk Kingdom partnership and praise. \nContact through +1 (470)905-9206
URL:https://davidthagana.com/event/friday-12th-is-open-for-ministry-in-atlanta-with-bishop-david/
LOCATION:United States Of America
ATTACH;FMTTYPE=image/jpeg:https://davidthagana.com/wp-content/uploads/2023/05/Atlanta-Georgia.jpg
ORGANIZER;CN="GOA USA":MAILTO:info@goaweb.org
END:VEVENT
BEGIN:VEVENT
DTSTART;TZID=America/Halifax:20230511T100000
DTEND;TZID=America/Halifax:20230511T130000
DTSTAMP:20260422T144702
CREATED:20230509T104409Z
LAST-MODIFIED:20230509T104440Z
UID:658-1683799200-1683810000@davidthagana.com
SUMMARY:Bishop David Returns to Atlanta
DESCRIPTION:Bishop David will spend a full day of ministry in Tampa Florida on 10th May 2023. On 11th May mid morning he departs back to Atlanta Georgia for More ministry Opportunities. \nLook at Bishops David’s Full Itinerary  and see the open opportunities to meet and talk Kingdom partnership and praise. \nContact through +1 (470)905-9206
URL:https://davidthagana.com/event/bishop-david-return-to-atlanta/
ATTACH;FMTTYPE=image/jpeg:https://davidthagana.com/wp-content/uploads/2023/05/Tampa-InternATIONAL-aIRPORT.jpg
END:VEVENT
BEGIN:VEVENT
DTSTART;VALUE=DATE:20230510
DTEND;VALUE=DATE:20230511
DTSTAMP:20260422T144702
CREATED:20230509T102848Z
LAST-MODIFIED:20230509T103721Z
UID:653-1683676800-1683763199@davidthagana.com
SUMMARY:Bishop David Ministry Time in Tampa Florida
DESCRIPTION:Bishop David will be in Tampa Florida on From  Tuesday 9th May 2023  Until Thursday 11th May 2023 when He travels back to Atlanta. \nOn Wednesday 10th May Bishop David will meet GOA ministry partners and friends in Florida. Please get in Contact through the  Contact Number Below and Schedule a meeting with Bishop David Thagana. \nContact through +1 (470)905-9206
URL:https://davidthagana.com/event/bishop-david-ministry-time-in-tampa-florida/
LOCATION:United States Of America
ATTACH;FMTTYPE=image/jpeg:https://davidthagana.com/wp-content/uploads/2023/05/Tampa-florda.jpg
ORGANIZER;CN="GOA USA":MAILTO:info@goaweb.org
END:VEVENT
BEGIN:VEVENT
DTSTART;TZID=America/Halifax:20230509T170000
DTEND;TZID=America/Halifax:20230509T190000
DTSTAMP:20260422T144702
CREATED:20230508T081224Z
LAST-MODIFIED:20230508T081224Z
UID:649-1683651600-1683658800@davidthagana.com
SUMMARY:Bishop flies to Tampa
DESCRIPTION:During his trip Bishop David will fly to Tampa Florida on Tuesday evening for a two day Kingdom partnership and ministry tour before driving back to Atlanta through Charlotte. While in Tampa Bishop David will meet and fellowship with new as well as existing ministry friends. Would you like to meet with Bishop while He is in Tampa? Please feel free to contact through the Phone contact below. Look at Bishop David’s Itinerary for the May trip and See where you can schedule to meet. \n  \nContact through +1 (470)905-9206
URL:https://davidthagana.com/event/bishop-flies-to-tampa-2/
LOCATION:United States Of America
ATTACH;FMTTYPE=image/jpeg:https://davidthagana.com/wp-content/uploads/2023/05/Bishop-flies-to-Tampa.jpg
ORGANIZER;CN="GOA USA":MAILTO:info@goaweb.org
END:VEVENT
BEGIN:VEVENT
DTSTART;VALUE=DATE:20230508
DTEND;VALUE=DATE:20230509
DTSTAMP:20260422T144702
CREATED:20230508T071555Z
LAST-MODIFIED:20230508T071555Z
UID:646-1683504000-1683590399@davidthagana.com
SUMMARY:Bishop David At Chick-Fil-A
DESCRIPTION:On Monday 8th May 2023\, Bishop David will be at Chick-Fil-A Headquarters in Atlanta Georgia. On this Day Bishop will be meeting friends and partners of GOA as well as his personal longtime friends. You can get in contact and plan to meet Bishop David on this particular day\, also Look out for Bishop David’s Itinerary for the MAY trip and See where you can schedule to meet. \n  \nContact through +1 (470)905-9206
URL:https://davidthagana.com/event/bishop-david-at-chick-fil-a/
LOCATION:United States Of America
ATTACH;FMTTYPE=image/jpeg:https://davidthagana.com/wp-content/uploads/2023/05/Bishop-at-Chick-Fil-a.jpg
ORGANIZER;CN="GOA USA":MAILTO:info@goaweb.org
END:VEVENT
BEGIN:VEVENT
DTSTART;TZID=America/Halifax:20230507T100000
DTEND;TZID=America/Halifax:20230507T130000
DTSTAMP:20260422T144702
CREATED:20230502T064542Z
LAST-MODIFIED:20230505T105237Z
UID:583-1683453600-1683464400@davidthagana.com
SUMMARY:Crane Eater Community Church Worship Service
DESCRIPTION:Bishop David Thagana Will be preaching at The Crane Eater Community church on 7th May 2023. This will be his first Sunday in the US during this Years May trip. Please plan and join Bishop David for this Service and other Events. \n  \nCRANE EATER COMMUNITY CHURCH 3168 RED BUD ROAD NE CALHOUN\, GA 30701
URL:https://davidthagana.com/event/crane-eater-community-church-worship-service/
LOCATION:United States Of America
ATTACH;FMTTYPE=image/jpeg:https://davidthagana.com/wp-content/uploads/2023/05/Event-Thumbnail-crane-Eater.jpg
ORGANIZER;CN="GOA USA":MAILTO:info@goaweb.org
END:VEVENT
BEGIN:VEVENT
DTSTART;VALUE=DATE:20221205
DTEND;VALUE=DATE:20221209
DTSTAMP:20260422T144702
CREATED:20221003T104744Z
LAST-MODIFIED:20221003T104744Z
UID:320-1670198400-1670543999@davidthagana.com
SUMMARY:GOA Leaders Summt
DESCRIPTION:All GOA Leaders from Different regions meet for Vision 2055 Internalization and Deliberations
URL:https://davidthagana.com/event/goa-leaders-summt/
END:VEVENT
BEGIN:VEVENT
DTSTART;TZID=Atlantic/South_Georgia:20221023T090000
DTEND;TZID=Atlantic/South_Georgia:20221023T130000
DTSTAMP:20260422T144702
CREATED:20221020T093021Z
LAST-MODIFIED:20221020T094246Z
UID:451-1666515600-1666530000@davidthagana.com
SUMMARY:Worship at Cumberland Community Church
DESCRIPTION:
URL:https://davidthagana.com/event/worship-at-cumberland-community-church/
LOCATION:United States Of America
ORGANIZER;CN="GOA USA":MAILTO:info@goaweb.org
END:VEVENT
BEGIN:VEVENT
DTSTART;TZID=Atlantic/South_Georgia:20221016T103000
DTEND;TZID=Atlantic/South_Georgia:20221016T103000
DTSTAMP:20260422T144702
CREATED:20221015T082156Z
LAST-MODIFIED:20221015T082608Z
UID:445-1665916200-1665916200@davidthagana.com
SUMMARY:Preaching at Smyrna Christian Church
DESCRIPTION:
URL:https://davidthagana.com/event/preaching-at-smyrna-christian-church/
LOCATION:United States Of America
END:VEVENT
BEGIN:VEVENT
DTSTART;VALUE=DATE:20221006
DTEND;VALUE=DATE:20221109
DTSTAMP:20260422T144702
CREATED:20221003T104358Z
LAST-MODIFIED:20221009T131025Z
UID:318-1665014400-1667951999@davidthagana.com
SUMMARY:Bishop Thagana's Visit to The USA
DESCRIPTION:Bishop Thagana visits the USA to meet the Friends and partners of GOA
URL:https://davidthagana.com/event/bishop-thaganas-visit-to-the-usa/
LOCATION:United States Of America
END:VEVENT
END:VCALENDAR